BEGIN:VCALENDAR
VERSION:2.0
PRODID:-//Flexx Club - ECPv6.15.17//NONSGML v1.0//EN
CALSCALE:GREGORIAN
METHOD:PUBLISH
X-WR-CALNAME:Flexx Club
X-ORIGINAL-URL:https://flexxclub.flexx.group
X-WR-CALDESC:Eventi per Flexx Club
REFRESH-INTERVAL;VALUE=DURATION:PT1H
X-Robots-Tag:noindex
X-PUBLISHED-TTL:PT1H
BEGIN:VTIMEZONE
TZID:Europe/Rome
BEGIN:DAYLIGHT
TZOFFSETFROM:+0100
TZOFFSETTO:+0200
TZNAME:CEST
DTSTART:20230326T010000
END:DAYLIGHT
BEGIN:STANDARD
TZOFFSETFROM:+0200
TZOFFSETTO:+0100
TZNAME:CET
DTSTART:20231029T010000
END:STANDARD
BEGIN:DAYLIGHT
TZOFFSETFROM:+0100
TZOFFSETTO:+0200
TZNAME:CEST
DTSTART:20240331T010000
END:DAYLIGHT
BEGIN:STANDARD
TZOFFSETFROM:+0200
TZOFFSETTO:+0100
TZNAME:CET
DTSTART:20241027T010000
END:STANDARD
BEGIN:DAYLIGHT
TZOFFSETFROM:+0100
TZOFFSETTO:+0200
TZNAME:CEST
DTSTART:20250330T010000
END:DAYLIGHT
BEGIN:STANDARD
TZOFFSETFROM:+0200
TZOFFSETTO:+0100
TZNAME:CET
DTSTART:20251026T010000
END:STANDARD
END:VTIMEZONE
BEGIN:VEVENT
DTSTART;TZID=Europe/Rome:20241106T193000
DTEND;TZID=Europe/Rome:20241106T213000
DTSTAMP:20260419T142229
CREATED:20241019T155109Z
LAST-MODIFIED:20241019T161521Z
UID:8214-1730921400-1730928600@flexxclub.flexx.group
SUMMARY:AperiFlexx Club Roma del 6 Novembre 2024
DESCRIPTION:Flexx Club Business Community vi aspetta al prossimo AperiFlexx Club Roma! \nLa missione della Flexx Club Business Community è creare momenti di connessioni umane fra manager\, professionisti e imprenditori per sviluppare e mantenere relazioni di valore e sostenibili nel tempo\, che saranno sempre più la vera fonte di vantaggio competitivo per qualunque business e per ogni professionista. \nIl nostro focus è sulle relazioni umane\, la base di tutto. \nVieni a conoscere la nostra Community\, qui puoi trovare nuove idee\, soluzioni\, supporto\, partner\, clienti\, fornitori e far crescere il tuo business. \nFlexx Club è una realtà nata per fare rete e creare un connubio di energie positive tra imprenditori e liberi professionisti curiosi che vogliono contribuire alla crescita di un modo nuovo di fare networking: più umano. \nUn incontro informale\, per conoscerci e creare relazioni virtuose. Durante l’incontro il nostro staff agevolerà la conoscenza tra i partecipanti. \n  \nLOCATION:  Caffè delle Esposizioni – Via Nazionale 184 Roma \n  \n \n  \n– \nFormat 60 secondi: \nOgni professionista ha 60 secondi di microfono aperto per presentare la propria attività al pubblico presente. Consigliamo pertanto di prepararsi al meglio il proprio speech. \nSarà occasione di: \n🔹 scambio di idee \n🔹 nuove connessioni e relazioni \n🔹 apprendimento \n🔹 riflessione \n🔹 facilitazione \n🔹 divertimento \nTi starai chiedendo\, “Perché dovrei esserci? \nEcco alcune ragioni: \n👇1. 𝗨𝗻 𝗡𝘂𝗼𝘃𝗼 𝗠𝗼𝗱𝗼 𝗱𝗶 𝗙𝗮𝗿𝗲 𝗡𝗲𝘁𝘄𝗼𝗿𝗸𝗶𝗻𝗴: Flexx Club rappresenta una Community dedicata a creare un connubio di energie positive tra imprenditori e liberi professionisti desiderosi di contribuire alla crescita di un approccio al networking radicalmente umano. \n2. 𝗜𝗻𝗰𝗼𝗻𝘁𝗿𝗼 𝗜𝗻𝗳𝗼𝗿𝗺𝗮𝗹𝗲: questo appuntamento sarà un’occasione per conoscersi reciprocamente. Lascia da parte i formalismi e abbraccia l’opportunità di stabilire connessioni autentiche. \n3. 𝗟𝗮 𝗖𝗿𝗲𝘀𝗰𝗶𝘁𝗮 𝗔𝘁𝘁𝗿𝗮𝘃𝗲𝗿𝘀𝗼 𝗹’𝗔𝘂𝘁𝗲𝗻𝘁𝗶𝗰𝗶𝘁𝗮’: crediamo fermamente che la crescita autentica dipenda da interazioni umane sincere e significative. Unisciti a noi in questa avventura\, dove l’umanità è al centro di tutto. \nSarà un momento in cui potrai sperimentare il networking in un modo completamente nuovo. Non perdere l’opportunità di far parte di questa straordinaria esperienza. \nCosa aspetti ad unirti a noi in questa avventura per condividere energie\, ispirazione e la gioia di costruire legami autentici? \n  \n– – – \nREGISTRAZIONE EVENTO E PARTECIPAZIONE\n🚩 OSPITI ED ESTERNI:  \nPARTECIPAZIONE E QUOTA (non ancora aderenti): Se non sei ancora un aderente Flexx Club Business Community clicca qui sul pulsante ISCRIVITI per riservare la tua partecipazione. \nPROMOZIONE ATTUALE  2×1  (solo poche disponibilità) \n> € 20\,00 per nr. 2 persone al prezzo di nr. 1 (Con questa promozione è possibile partecipare in due). \nIl pagamento della quota include Aperitivo e Drink. \nClicca qui sul pulsante ISCRIVITI per riservare la tua partecipazione: \n> ISCRIVITI <\n– – – \n  \n🚩 ADERENTI FLEXX CLUB:  \nPARTECIPAZIONE E QUOTA: Se sei già un aderente Flexx Club Business Community riserviamo per te di volta in volta speciali promozioni sulla partecipazione agli eventi. \nPROMOZIONE ATTUALE  2×1  (solo poche disponibilità) \n>> € 20\,00 per nr. 2 persone al prezzo di nr. 1 (Con questa promozione è possibile partecipare in due). \nIl pagamento della quota include Aperitivo e Drink. \nClicca qui sul pulsante ADERISCI per riservare la tua partecipazione: \n> ADERISCI <\n#networking #roma #connessioni #business
URL:https://flexxclub.flexx.group/event/aperiflexx-club-roma-del-6-novembre-2024/
LOCATION:Caffè Delle Esposizioni\, via Nazionale 194\, Roma\, 00184\, Italia
CATEGORIES:Roma
ATTACH;FMTTYPE=image/jpeg:https://flexxclub.flexx.group/wp-content/uploads/2024/06/roma_banner-scaled.jpg
ORGANIZER;CN="Flexx Club Roma":MAILTO:flexxclub@flexx.group
END:VEVENT
BEGIN:VEVENT
DTSTART;TZID=Europe/Rome:20241119T183000
DTEND;TZID=Europe/Rome:20241119T200000
DTSTAMP:20260419T142229
CREATED:20241112T175224Z
LAST-MODIFIED:20241113T150333Z
UID:8244-1732041000-1732046400@flexxclub.flexx.group
SUMMARY:Flexx Club presenta: Previdenza\, il futuro è oggi.
DESCRIPTION:Flexx Club Business Community è lieta di invitarti al nuovo evento dedicato al tema della Previdenza con momento di networking. \n  \nLa previdenza è un tema di fondamentale importanza per la pianificazione del proprio futuro economico/finanziario che da argomento ignorato negli ultimi anni sta crescendo nell’interesse della collettività. \nLe persone oggi sono più consapevoli dell’importanza di integrare la pensione pubblica con forme di previdenza complementare. Anche il mondo della politica\, delle istituzioni e dei media dedicano sempre più spazio alla previdenza\, cercando di informare i cittadini sulla necessità di attivare una pianificazione previdenziale a lungo termine al più presto. \nAnche i giovani\, stanno mostrando un interesse crescente sull’argomento\, consapevoli che è  importante iniziare a mettere da parte dei risparmi per il futuro fin da subito. \nNonostante questo\, la previdenza rimane un tema complesso\, con una normativa intricata e la presenza di una vasta gamma di soluzioni\, difficili da comprendere. Questo può generare confusione\, incertezza e disorientamento tra i risparmiatori. \nL’obiettivo dell’incontro è quello  di trasformare l’interesse “confuso” in conoscenza\, fornendo informazioni chiare ed aggiornate in modo da aiutare le persone a prendere decisioni più consapevoli\, mettere in atto azioni concrete e costruire così un futuro più sereno e sicuro. \nIntervengono: \n\nFrancesco Muscò – Founder Flexx Club Business Community\nMichael Sonnewald – Esperto di Previdenza e Consulente Azimut Capital Management\n\nProgramma dell’incontro:  \n\n18:30 – Inizio e presentazioni\n18:35 – Introduzione Flexx Club – con Francesco Muscò\n18:45 Previdenza: Il futuro è oggi – con Michael Sonnewald\n19:15 Q&A e Chiusura\nSegue Aperitivo di Networking\n\n  \nCogli l’occasione per approfondire il tema in un incontro leggero e focalizzato sull’argomento. \nTi aspettiamo! \n  \nFlexx Club Business Community  \nLa missione della Flexx Club Business Community è creare momenti di connessioni umane fra manager\, professionisti e imprenditori per sviluppare e mantenere relazioni di valore e sostenibili nel tempo\, che saranno sempre più la vera fonte di vantaggio competitivo per qualunque business e per ogni professionista. \nIl nostro focus è sulle relazioni umane\, la base di tutto. \nVieni a conoscere la nostra Community\, qui puoi trovare nuove idee\, soluzioni\, supporto\, partner\, clienti\, fornitori e far crescere il tuo business. \nFlexx Club è una realtà nata per fare rete e creare un connubio di energie positive tra imprenditori e liberi professionisti curiosi che vogliono contribuire alla crescita di un modo nuovo di fare networking: più umano. \n– \n🚩 PARTECIPAZIONE  \nIl pagamento della quota include Aperitivo e Drink. \nClicca qui sul pulsante ISCRIVITI per riservare la tua partecipazione: \n> ISCRIVITI <\n– – – \n#networking #milano #connessioni #business
URL:https://flexxclub.flexx.group/event/flexx-club-presenta-previdenza-il-futuro-e-oggi/
LOCATION:Azimut Capital Management\, Corso Venezia 48\, Milano\, 20122\, Italia
CATEGORIES:Milano
ATTACH;FMTTYPE=image/jpeg:https://flexxclub.flexx.group/wp-content/uploads/2024/11/LOCANDINA_PROVIDENZA_ORIZZONTALEpg-scaled-e1734274554185.jpg
ORGANIZER;CN="Flexx Club Milano":MAILTO:flexxclub@flexx.group
END:VEVENT
BEGIN:VEVENT
DTSTART;TZID=Europe/Rome:20241123T090000
DTEND;TZID=Europe/Rome:20241130T210000
DTSTAMP:20260419T142229
CREATED:20240717T074423Z
LAST-MODIFIED:20240718T083639Z
UID:7662-1732352400-1733000400@flexxclub.flexx.group
SUMMARY:Talent Lab Adventure - Fuerteventura
DESCRIPTION:Scopri il Viaggio che Cambierà la Tua Vita: Un’Esperienza di Crescita Personale a Fuerteventura \n  \nFlexx Club Business Community è lieta di invitarti a TALENT LAB ADVENTURE!  \nTalent Lab Adventure è un’iniziativa di Carlo Lesma – Executive Coach e Mentore e membro della nostra Community Flexx Club. \nSiamo entusiasti di promuovere questa iniziativa di alto valore umano che da tempo ormai aiuta le persone a raggiungere i propri obiettivi. \n  \nTalent Lab Adventure è una settimana esperienziale ​​di crescita personale \nVacanza- Formazione alle Canarie\, per un massimo di 14 Partecipanti \n  \n \n  \nTalent Lab Adventure è il viaggio di crescita personale che ti porterà a Fuerteventura\, l’isola incantata\, per vivere un’esperienza indimenticabile. \nDurante il viaggio\, avrai l’opportunità di partecipare a workshop di formazione\, coaching\, meditazione e mindfulness\, che ti forniranno gli strumenti per riprendere in mano la tua vita\, ritrovare il tuo centro e scoprire il tuo talento nascosto.\nLa forza del gruppo e l’energia dei quattro elementi\, aria\, fuoco\, terra\, e acqua saranno elementi indispensabili per la tua crescita personale. \nOgni giorno\, inoltre\, visiterai l’isola\, in un tour magico\, per scoprire i paesaggi straordinari di Fuerteventura e immergerti completamente nella bellezza e nell’energia della natura circostante. \n  \nTi abbiamo incuriosita/o? \nVuoi saperne di più? \nVisita il sito web dedicato e conoscere tutti i dettagli dell’iniziativa \n  \n🚩 MAGGIORI INFORMAZIONI \nBenefit Flexx Club Business Community \nRichiedi maggiori informazioni e comunica di essere un membro Flexx Club \nGli aderenti a Flexx Club avranno uno sconto del 10% sul prezzo del viaggio. \nWWW.TALENTLABADVENTURE.COM  \n– – – \n  \n“La mia Intenzione\, insieme allo Staff del TLA\, è di guidarti passo dopo passo e darti gli strumenti necessari per Cambiare la Tua Vita\, lo potrai verificare tu stesso dalle testimonianze e dai video che sono stati fatti da persone che hanno avuto la voglia e il desiderio di mettersi in gioco. Ti aspetto alle Canarie per trascorrere insieme  una settimana Indimenticabile”. (CARLO LESMA) \n 
URL:https://flexxclub.flexx.group/event/talent-lab-adventure-fuerteventura/
LOCATION:Fuerteventura\, Spagna
END:VEVENT
BEGIN:VEVENT
DTSTART;TZID=Europe/Rome:20241127T190000
DTEND;TZID=Europe/Rome:20241127T210000
DTSTAMP:20260419T142229
CREATED:20240726T161116Z
LAST-MODIFIED:20241112T191902Z
UID:7700-1732734000-1732741200@flexxclub.flexx.group
SUMMARY:AperiFlexx Club Monza del 27 Novembre 2024
DESCRIPTION:Flexx Club Business Community vi aspetta al prossimo AperiFlexx Club Monza! \nLa missione della Flexx Club Business Community è creare momenti di connessioni umane fra manager\, professionisti e imprenditori per sviluppare e mantenere relazioni di valore e sostenibili nel tempo\, che saranno sempre più la vera fonte di vantaggio competitivo per qualunque business e per ogni professionista. \nIl nostro focus è sulle relazioni umane\, la base di tutto. \nVieni a conoscere la nostra Community\, qui puoi trovare nuove idee\, soluzioni\, supporto\, partner\, clienti\, fornitori e far crescere il tuo business. \nFlexx Club è una realtà nata per fare rete e creare un connubio di energie positive tra imprenditori e liberi professionisti curiosi che vogliono contribuire alla crescita di un modo nuovo di fare networking: più umano. \nUn incontro informale\, per conoscerci e creare relazioni virtuose. Durante l’incontro il nostro staff agevolerà la conoscenza tra i partecipanti. \n– \nFormat 60 secondi: \nOgni professionista ha 60 secondi di microfono aperto per presentare la propria attività al pubblico presente. Consigliamo pertanto di prepararsi al meglio il proprio speech. \nSarà occasione di: \n🔹 scambio di idee \n🔹 nuove connessioni e relazioni \n🔹 apprendimento \n🔹 riflessione \n🔹 facilitazione \n🔹 divertimento \nTi starai chiedendo\, “Perché dovrei esserci? \nEcco alcune ragioni: \n👇1. 𝗨𝗻 𝗡𝘂𝗼𝘃𝗼 𝗠𝗼𝗱𝗼 𝗱𝗶 𝗙𝗮𝗿𝗲 𝗡𝗲𝘁𝘄𝗼𝗿𝗸𝗶𝗻𝗴: Flexx Club rappresenta una Community dedicata a creare un connubio di energie positive tra imprenditori e liberi professionisti desiderosi di contribuire alla crescita di un approccio al networking radicalmente umano. \n2. 𝗜𝗻𝗰𝗼𝗻𝘁𝗿𝗼 𝗜𝗻𝗳𝗼𝗿𝗺𝗮𝗹𝗲: questo appuntamento sarà un’occasione per conoscersi reciprocamente. Lascia da parte i formalismi e abbraccia l’opportunità di stabilire connessioni autentiche. \n3. 𝗟𝗮 𝗖𝗿𝗲𝘀𝗰𝗶𝘁𝗮 𝗔𝘁𝘁𝗿𝗮𝘃𝗲𝗿𝘀𝗼 𝗹’𝗔𝘂𝘁𝗲𝗻𝘁𝗶𝗰𝗶𝘁𝗮̀: crediamo fermamente che la crescita autentica dipenda da interazioni umane sincere e significative. Unisciti a noi in questa avventura\, dove l’umanità è al centro di tutto. \nSarà un momento in cui potrai sperimentare il networking in un modo completamente nuovo. Non perdere l’opportunità di far parte di questa straordinaria esperienza. \nCosa aspetti ad unirti a noi in questa avventura per condividere energie\, ispirazione e la gioia di costruire legami autentici? \n– \n🚩 PARTECIPAZIONE E QUOTA € 20\,00 a persona (include aperitivo food e 1 drink) \n– \n🚩 ADERENTI FLEXX CLUB:  \nPARTECIPAZIONE E QUOTA: Se sei già un aderente Flexx Club Business Community riserviamo per te di volta in volta speciali promozioni sulla partecipazione agli eventi. \nPROMOZIONE ATTUALE: 2×1 >> € 20\,00 per nr. 2 persone al prezzo di nr. 1 (Con questa promozione è possibile partecipare in due). \nIl pagamento della quota include Aperitivo e Drink. \nClicca qui sul pulsante ADERISCI per riservare la tua partecipazione: \n> ADERISCI <\n– – – \n  \n🚩 OSPITI ED ESTERNI:  \nPARTECIPAZIONE E QUOTA (non ancora aderenti): Se non sei ancora un aderente Flexx Club Business Community clicca qui sul pulsante ISCRIVITI per riservare la tua partecipazione. \nQUOTA >> € 20\,00 per nr. 1 persona. Il pagamento della quota include Aperitivo e Drink. \nClicca qui sul pulsante ISCRIVITI per riservare la tua partecipazione: \n> ISCRIVITI <\n#networking #monza #connessioni #business
URL:https://flexxclub.flexx.group/event/aperiflexx-club-monza-del-27-novembre-2024/
LOCATION:Manzoni16 Spazio Eventi\, Via Alessandro Manzoni\, 16\,\, Monza\, MB\, 20900\, Italia
CATEGORIES:Monza
ATTACH;FMTTYPE=image/jpeg:https://flexxclub.flexx.group/wp-content/uploads/2024/06/monza_banner-scaled.jpg
ORGANIZER;CN="Flexx Club Monza":MAILTO:flexxclub@flexx.group
END:VEVENT
END:VCALENDAR