BEGIN:VCALENDAR
VERSION:2.0
PRODID:-//Flexx Club - ECPv6.15.17//NONSGML v1.0//EN
CALSCALE:GREGORIAN
METHOD:PUBLISH
X-WR-CALNAME:Flexx Club
X-ORIGINAL-URL:https://flexxclub.flexx.group
X-WR-CALDESC:Eventi per Flexx Club
REFRESH-INTERVAL;VALUE=DURATION:PT1H
X-Robots-Tag:noindex
X-PUBLISHED-TTL:PT1H
BEGIN:VTIMEZONE
TZID:Europe/Rome
BEGIN:DAYLIGHT
TZOFFSETFROM:+0100
TZOFFSETTO:+0200
TZNAME:CEST
DTSTART:20240331T010000
END:DAYLIGHT
BEGIN:STANDARD
TZOFFSETFROM:+0200
TZOFFSETTO:+0100
TZNAME:CET
DTSTART:20241027T010000
END:STANDARD
BEGIN:DAYLIGHT
TZOFFSETFROM:+0100
TZOFFSETTO:+0200
TZNAME:CEST
DTSTART:20250330T010000
END:DAYLIGHT
BEGIN:STANDARD
TZOFFSETFROM:+0200
TZOFFSETTO:+0100
TZNAME:CET
DTSTART:20251026T010000
END:STANDARD
BEGIN:DAYLIGHT
TZOFFSETFROM:+0100
TZOFFSETTO:+0200
TZNAME:CEST
DTSTART:20260329T010000
END:DAYLIGHT
BEGIN:STANDARD
TZOFFSETFROM:+0200
TZOFFSETTO:+0100
TZNAME:CET
DTSTART:20261025T010000
END:STANDARD
END:VTIMEZONE
BEGIN:VEVENT
DTSTART;TZID=Europe/Rome:20250304T193000
DTEND;TZID=Europe/Rome:20250304T223000
DTSTAMP:20260420T121739
CREATED:20250213T204511Z
LAST-MODIFIED:20250213T204626Z
UID:8779-1741116600-1741127400@flexxclub.flexx.group
SUMMARY:Networking Night AperiFlexx Milano del 4 Marzo 2025
DESCRIPTION:Dopo le prime due edizioni 2024 con oltre 60 partecipanti ad evento\, siamo pronti per una nuova serata all’insegna dell’amicizia e delle buone relazioni. \n\n\n\nUn appuntamento dedicato al networking per ampliare la rete dei contatti professionali\, creare nuove alleanze e far crescere il tuo business. \n\n\n\n\n\n\nCi vediamo il  4 Marzo 2025 alle ore 19:30 al World Join Center presso La Ginarteria\, per fare più amicizie\, più business e più networking. \n\nRiserva subito la tua partecipazione. \n\n\n\n\n\n\n\n> SCOPRI L’EVENTO <\n– – – \n#networking #milano #connessioni #business
URL:https://flexxclub.flexx.group/event/networking-night-aperiflexx-milano-del-4-marzo-2025/
LOCATION:World Join Center – La Ginarteria\, Via Achille Papa 30\,\, Milano\, Italy
CATEGORIES:Milano
ATTACH;FMTTYPE=image/jpeg:https://flexxclub.flexx.group/wp-content/uploads/2025/02/flexxclub_4.03.2025_networking_night-scaled.jpg
ORGANIZER;CN="Flexx Club Milano":MAILTO:flexxclub@flexx.group
END:VEVENT
END:VCALENDAR