BEGIN:VCALENDAR
VERSION:2.0
PRODID:-//Flexx Club - ECPv6.15.17//NONSGML v1.0//EN
CALSCALE:GREGORIAN
METHOD:PUBLISH
X-WR-CALNAME:Flexx Club
X-ORIGINAL-URL:https://flexxclub.flexx.group
X-WR-CALDESC:Eventi per Flexx Club
REFRESH-INTERVAL;VALUE=DURATION:PT1H
X-Robots-Tag:noindex
X-PUBLISHED-TTL:PT1H
BEGIN:VTIMEZONE
TZID:Europe/Rome
BEGIN:DAYLIGHT
TZOFFSETFROM:+0100
TZOFFSETTO:+0200
TZNAME:CEST
DTSTART:20250330T010000
END:DAYLIGHT
BEGIN:STANDARD
TZOFFSETFROM:+0200
TZOFFSETTO:+0100
TZNAME:CET
DTSTART:20251026T010000
END:STANDARD
BEGIN:DAYLIGHT
TZOFFSETFROM:+0100
TZOFFSETTO:+0200
TZNAME:CEST
DTSTART:20260329T010000
END:DAYLIGHT
BEGIN:STANDARD
TZOFFSETFROM:+0200
TZOFFSETTO:+0100
TZNAME:CET
DTSTART:20261025T010000
END:STANDARD
BEGIN:DAYLIGHT
TZOFFSETFROM:+0100
TZOFFSETTO:+0200
TZNAME:CEST
DTSTART:20270328T010000
END:DAYLIGHT
BEGIN:STANDARD
TZOFFSETFROM:+0200
TZOFFSETTO:+0100
TZNAME:CET
DTSTART:20271031T010000
END:STANDARD
END:VTIMEZONE
BEGIN:VEVENT
DTSTART;TZID=Europe/Rome:20260506T124500
DTEND;TZID=Europe/Rome:20260506T140000
DTSTAMP:20260420T024627
CREATED:20260311T230740Z
LAST-MODIFIED:20260418T114230Z
UID:13516-1778071500-1778076000@flexxclub.flexx.group
SUMMARY:Business Networking LUNCH in CANTU' (Como) 6 Maggio 2026 MILANO
DESCRIPTION:Flexx Club Business Community vi aspetta al prossimo FLEXX CLUB NETWORKING LUNCH. \nL’appuntamento è per il 6 Maggio 2026 alle ore 12:30 presso FRATELLI COPPOLA Cantù Asnago – Piazzale Stazione 2. \nHai voglia di integrarti nella Community di Flexx Club? \nVuoi presentarti con la tua attività in un modo informale e costruire nuove relazioni di successo? \n  \nNON MANCARE\, TU FARAI LA DIFFERENZA\, TI ASPETTIAMO ! \n  \n🚩 PARTECIPAZIONE € 20\,00 a persona – PROMO PORTA UN AMICO fino ad esaurimento \nInclude: Primo\, Secondo\, Acqua e Caffè \nE ‘ sufficiente registrarsi al link qui di seguito. \n  \n\n\n\n\n\n\n\n> SCOPRI L’EVENTO <\n– – – \n#networking #milano #connessioni #business
URL:https://flexxclub.flexx.group/event/business-networking-lunch-in-cantu-como-6-maggio-2026-milano/
LOCATION:Fratelli Coppola Cantù Asnago\, Piazzale Stazione 2\, Cantù\, 22063\, Italy
CATEGORIES:Cantù Como
ATTACH;FMTTYPE=image/png:https://flexxclub.flexx.group/wp-content/uploads/2026/03/Screenshot-378.png
ORGANIZER;CN="Flexx Club Business Community":MAILTO:flexxclub@flexx.group
END:VEVENT
END:VCALENDAR